BEGIN:VCALENDAR
METHOD:PUBLISH
PRODID:Data::ICal 0.13
VERSION:2.0
BEGIN:VEVENT
DESCRIPTION:PRAISE IS MAKING STRIDES AGAINST BREAST CANCER! GO PINK ALL MONTH WITH (insert station) IN HONOR OF THOSE WHO HAVE BEEN AFFECTED BY BREAST CANCER! JOIN THE AMERICAN CANCER SOCIETY ALONG WITH PRAISE  AT RFK STADIUM ON SUNDAY OCTOBER 29TH \n\nClick Here To Join This Walk
DTSTAMP:20260423T095320Z
DTSTART;TZID=America/New_York:20171029T083000
DTEND;TZID=America/New_York:20171029T083000
LOCATION:2400 E Capitol St SE\, Parking Lot 8\, Washington\, D.C.
SUMMARY:MAKING STRIDES AGAINST BREAST CANCER WALK
UID:1857299-1509265800-1509265800
END:VEVENT
END:VCALENDAR
