BEGIN:VCALENDAR
METHOD:PUBLISH
PRODID:Data::ICal 0.13
VERSION:2.0
BEGIN:VEVENT
DESCRIPTION:Don&#039;t miss the Radio One/FSC First &quot;Level Up Virtual Town Hall Meeting&quot; -\n&quot;Celebrating Women’s Entrepreneurship, Growth &amp; Prosperity&quot;\nCommemorate Women&#039;s History Month by celebrating the achievements and contributions of women entrepreneurs, Presented by FSC First!\nThursday, March 14th, 7:00 PM\n\nWatch LIVE on the Praise 104.1 and MySpiritDC Facebook Pages, Radio One DC YouTube, PraiseDC.com, and MySpiritDC.com!\n\nhttps://www.youtube.com/watch?v=_mmvq6cIylg\n\nHosted by Cheryl Jackson\n\nFeatured Panelists:\n\nDawn R. Medley, CEO of FSC First\n\nTaji Kelly, Owner of Vent Suite Massage &amp; Spa (Level Up Participant) \n\nToya Evans, Business Leader, Consultant, and Multi-Unit/Multi-Brand Franchise Owner\n\nTisa Clark, Founder &amp; CEO of The J.D. Clark Companies (Level Up Consultant)\n\nKathryn R. Clay  \nSVP, Greater Washington Area Market Manager\nCommunity Development Banking\nPNC Bank  (invited)
DTSTAMP:20260420T143320Z
DTSTART;TZID=America/New_York:20240314T190000
DTEND;TZID=America/New_York:20240314T200000
LOCATION:
SUMMARY:Radio One/FSC First &#8220;Level Up Virtual Town Hall Meeting&#8221; Hosted by Cheryl Jackson
UID:3178785-1710442800-1710446400
END:VEVENT
END:VCALENDAR
