BEGIN:VCALENDAR
METHOD:PUBLISH
PRODID:Data::ICal 0.13
VERSION:2.0
BEGIN:VEVENT
DESCRIPTION:Join us this Thanksgiving Day for a special give-back event!We’re welcoming our MD/DC church community to The Gathering Place DC on Thursday, November 27th for a warm Thanksgiving meal filled with gratitude and fellowship.Dinner will be served from 11:00 AM – 12:30 PM, and guests are invited to arrive at 10:00 AM for prayer and setup. Meals are first-come, first-served, so we encourage early arrival.  



We’ll also have a special appearance from Cheryl Jackson and Praise 92.7/95.9.Let’s come together and celebrate the spirit of giving this Thanksgiving!
DTSTAMP:20260425T123640Z
DTSTART;TZID=America/New_York:19700101T000000
DTEND;TZID=America/New_York:19700101T000000
LOCATION:4703 Marlboro Pike\, Capitol Heights\, Maryland\, 20743
SUMMARY:Thanksgiving Day Special Give-back Event
UID:3616716--
END:VEVENT
END:VCALENDAR
